BEGIN:VCALENDAR
VERSION:2.0
PRODID:spatie/icalendar-generator
DESCRIPTION:Veranstaltungen von Deutsche Rheuma-Liga\, ARGE Weilheim-Schong
 au
X-WR-CALDESC:Veranstaltungen von Deutsche Rheuma-Liga\, ARGE Weilheim-Schon
 gau
REFRESH-INTERVAL;VALUE=DURATION:PT1440M
X-PUBLISHED-TTL:PT1440M
BEGIN:VTIMEZONE
TZID:Etc/GMT+0
BEGIN:STANDARD
DTSTART:20241001T150000Z
TZOFFSETFROM:+0000
TZOFFSETTO:+0000
END:STANDARD
END:VTIMEZONE
BEGIN:VTIMEZONE
TZID:UTC
BEGIN:STANDARD
DTSTART:20250724T110536Z
TZOFFSETFROM:+0000
TZOFFSETTO:+0000
END:STANDARD
END:VTIMEZONE
BEGIN:VEVENT
UID:215-208
DTSTAMP:20260420T110536Z
SUMMARY:DRL Sommerfest der ARGE Weilheim-Schongau
LOCATION:DRL Büro ARGE Weilheim-Schongau Angerkapellenstr. 5  Weilheim  82
 362
ORGANIZER;CN=ARGE WM SOG:MAILTO:beimspieltoni@gmx.de
DTSTART;TZID=Etc/GMT+0:20250628T150000
DTEND;TZID=Etc/GMT+0:20250628T220000
X-ALT-DESC;FMTTYPE=TEXT/HTML:Entspanntes Beisammen sein für Mitglieder und
  Gäste mit Musik und Bewirtung!
CATEGORIES:General
URL;VALUE=URI:https://rheumaliga-weilheim.de/mc-events/drl-sommerfest-der-a
 rge-weilheim-schongau/
METHOD:PUBLISH
END:VEVENT
END:VCALENDAR