BEGIN:VCALENDAR
VERSION:2.0
PRODID:spatie/icalendar-generator
DESCRIPTION:Veranstaltungen von Deutsche Rheuma-Liga\, ARGE Weilheim-Schong
 au
X-WR-CALDESC:Veranstaltungen von Deutsche Rheuma-Liga\, ARGE Weilheim-Schon
 gau
REFRESH-INTERVAL;VALUE=DURATION:PT1440M
X-PUBLISHED-TTL:PT1440M
BEGIN:VTIMEZONE
TZID:Etc/GMT+0
BEGIN:STANDARD
DTSTART:20250729T100000Z
TZOFFSETFROM:+0000
TZOFFSETTO:+0000
END:STANDARD
END:VTIMEZONE
BEGIN:VTIMEZONE
TZID:UTC
BEGIN:STANDARD
DTSTART:20250724T121651Z
TZOFFSETFROM:+0000
TZOFFSETTO:+0000
END:STANDARD
END:VTIMEZONE
BEGIN:VEVENT
UID:310-285
DTSTAMP:20260420T121651Z
SUMMARY:ALK Brunch im Lila Treff
LOCATION:Lila Treff Poststr. 10  Peiting  86971
ORGANIZER;CN=ARGE WM SOG:MAILTO:beimspieltoni@gmx.de
DTSTART;TZID=Etc/GMT+0:20260425T100000
DTEND;TZID=Etc/GMT+0:20260425T130000
X-ALT-DESC;FMTTYPE=TEXT/HTML:für Mitglieder\, Betroffene und Interessierte
 ! Auskunft und Anmeldung bitte bei Atha Karafilloudi\, Tel: 0881 - 927 030
  20 bzw. Tel: 0157 - 518 518 45.
CATEGORIES:General
URL;VALUE=URI:https://rheumaliga-weilheim.de/mc-events/alk-brunch-im-lila-t
 reff-4/
METHOD:PUBLISH
END:VEVENT
END:VCALENDAR